BEGIN:VCALENDAR
VERSION:2.0
PRODID:-//hacksw/handcal//NONSGML v1.0//EN
METHOD:PUBLISH
BEGIN:VEVENT
UID:pdnetworks-15370@soesd.k12.or.us
SEQUENCE:7
DTSTAMP:20260423T060746
DTSTART:20260420T180000
DTEND:20260420T210000
SUMMARY:(94282)Воспитание великих мыслителей: критическое мышление для детей Помогаем детям задавать вопросы\, устанавливать связи и решать проблемы (Growing Great Thinkers: Critical Thinking for Children: Helping Kids Ask Questions\, Make Connections\, (STATE) - PDNetworks Workshop
LOCATION:Clackamas ESD - Online/Virtual     - Online/Virtual
X-ALT-DESC;FMTTYPE=text/html:Clackamas ESD - Online/Virtual     - Online/Virtual<br/><br/><span style="font-size:12pt"><span style="font-family:Calibri\,sans-serif"><span style="color:#000000">Description:&nbsp\;<span style="background-color:#ffffff">Этот курс помогает детям учиться ясно мыслить\, задавать правильные вопросы и находить творческие решения. Через интересные задания\, истории и игры дети будут тренироваться рассматривать ситуации с разных точек зрения\, делать осознанный выбор и уверенно выражать свои идеи.</span><br/>Set: 2<br/>CKC: UGB<br/>ARC: No Age-Related Content</span></span></span><br/>&nbsp\;<br/><br/><br/><br/> For more information on this event\, go to https://pdnetworks.soesd.k12.or.us/public/events/view-event/15370/%2894282%29%D0%92%D0%BE%D1%81%D0%BF%D0%B8%D1%82%D0%B0%D0%BD%D0%B8%D0%B5-%D0%B2%D0%B5%D0%BB%D0%B8%D0%BA%D0%B8%D1%85-%D0%BC%D1%8B%D1%81%D0%BB%D0%B8%D1%82%D0%B5%D0%BB%D0%B5%D0%B9%3A-%D0%BA%D1%80%D0%B8%D1%82%D0%B8%D1%87%D0%B5%D1%81%D0%BA%D0%BE%D0%B5-%D0%BC%D1%8B%D1%88%D0%BB%D0%B5%D0%BD%D0%B8%D0%B5-%D0%B4%D0%BB%D1%8F-%D0%B4%D0%B5%D1%82%D0%B5%D0%B9-%D0%9F%D0%BE%D0%BC%D0%BE%D0%B3%D0%B0%D0%B5%D0%BC-%D0%B4%D0%B5%D1%82%D1%8F%D0%BC-%D0%B7%D0%B0%D0%B4%D0%B0%D0%B2%D0%B0%D1%82%D1%8C-%D0%B2%D0%BE%D0%BF%D1%80%D0%BE%D1%81%D1%8B%2C-%D1%83%D1%81%D1%82%D0%B0%D0%BD%D0%B0%D0%B2%D0%BB%D0%B8%D0%B2%D0%B0%D1%82%D1%8C-%D1%81%D0%B2%D1%8F%D0%B7%D0%B8-%D0%B8-%D1%80%D0%B5%D1%88%D0%B0%D1%82%D1%8C-%D0%BF%D1%80%D0%BE%D0%B1%D0%BB%D0%B5%D0%BC%D1%8B-%28Growing-Great-Thinkers%3A-Critical-Thinking-for-Children%3A-Helping-Kids-Ask-Questions%2C-Make-Connections%2C-%28STATE%29
STATUS:CONFIRMED
END:VEVENT
END:VCALENDAR