BEGIN:VCALENDAR
VERSION:2.0
PRODID:-//hacksw/handcal//NONSGML v1.0//EN
METHOD:PUBLISH
BEGIN:VEVENT
UID:pdnetworks-15371@soesd.k12.or.us
SEQUENCE:10
DTSTAMP:20260423T060051
DTSTART:20260421T120000
DTEND:20260421T140000
SUMMARY:(94283) Self-Care Comes Second to Self-Compassion (STATE) - PDNetworks Workshop
LOCATION:Clackamas ESD - Online/Virtual     - Online/Virtual
X-ALT-DESC;FMTTYPE=text/html:Clackamas ESD - Online/Virtual     - Online/Virtual<br/><br/><span style="font-size:12pt"><span style="font-family:Calibri\,sans-serif"><span style="color:#000000">Description:&nbsp\;<span style="background-color:#ffffff">Everyone is talking about the importance of self-care\, but what about self-compassion? Participants investigate their own practice of caring for themselves and explore the ways in which they can develop more compassion for themselves on a daily basis.</span><br/>Set: 2<br/>CKC: PPLD<br/>ARC: No Age-Related Content</span></span></span><br/>&nbsp\;<br/><br/><br/><br/> For more information on this event\, go to https://pdnetworks.soesd.k12.or.us/public/events/view-event/15371/%2894283%29-Self-Care-Comes-Second-to-Self-Compassion-%28STATE%29
STATUS:CONFIRMED
END:VEVENT
END:VCALENDAR