BEGIN:VCALENDAR
VERSION:2.0
PRODID:-//hacksw/handcal//NONSGML v1.0//EN
METHOD:PUBLISH
BEGIN:VEVENT
UID:pdnetworks-15373@soesd.k12.or.us
SEQUENCE:9
DTSTAMP:20260423T050447
DTSTART:20260423T180000
DTEND:20260423T210000
SUMMARY:(94285) Explorando la Importancia de la Diversidad en la Edad Temprana (Exploring the Importance of Diversity in Early Childhood) (STATE) - PDNetworks Workshop
LOCATION:Clackamas ESD - Online/Virtual     - Online/Virtual
X-ALT-DESC;FMTTYPE=text/html:Clackamas ESD - Online/Virtual     - Online/Virtual<br/><br/><span style="font-size:12pt"><span style="font-family:Calibri\,sans-serif"><span style="color:#000000">Description:&nbsp\;Nuestro mundo moderno se compone de todo tipo de maravillosos y diversos ni&ntilde\;os y familias. Es muy importante para nosotros como profesionales de la educaci&oacute\;n temprana de respetar\, honorar y valorar a los ni&ntilde\;os y a sus familias que pueden tener ideas y valores que son diferentes de las nuestras. En este taller vamos a examinar nuestras creencias acerca de la diversidad y explorar estrategias para abrazar y honorar a diversos ni&ntilde\;os y sus familias.<br/>Set: 2<br/>CKC: DIV<br/>ARC: No Age-Related Content</span></span></span><br/>&nbsp\;<br/><br/><br/><br/> For more information on this event\, go to https://pdnetworks.soesd.k12.or.us/public/events/view-event/15373/%2894285%29-Explorando-la-Importancia-de-la-Diversidad-en-la-Edad-Temprana-%28Exploring-the-Importance-of-Diversity-in-Early-Childhood%29-%28STATE%29
STATUS:CONFIRMED
END:VEVENT
END:VCALENDAR