BEGIN:VCALENDAR
VERSION:2.0
PRODID:-//hacksw/handcal//NONSGML v1.0//EN
METHOD:PUBLISH
BEGIN:VEVENT
UID:pdnetworks-15374@soesd.k12.or.us
SEQUENCE:8
DTSTAMP:20260423T044720
DTSTART:20260428T180000
DTEND:20260428T210000
SUMMARY:(94287) Colors of Your Own Sensory Palette: A Workshop for Educators (STATE) - PDNetworks Workshop
LOCATION:Clackamas ESD - Online/Virtual     - Online/Virtual
X-ALT-DESC;FMTTYPE=text/html:Clackamas ESD - Online/Virtual     - Online/Virtual<br/><br/><span style="font-size:12pt"><span style="font-family:Calibri\,sans-serif"><span style="color:#000000">Description:&nbsp\;Through active experience with art materials and personal reflection\, explore and examine your personal sensory sensitivities and how that interfaces with the children in your classroom community.<br/>Set: 2<br/>CKC: PPLD / SN<br/>ARC: No Age-Related Content</span></span></span><br/>&nbsp\;<br/><br/><br/><br/> For more information on this event\, go to https://pdnetworks.soesd.k12.or.us/public/events/view-event/15374/%2894287%29-Colors-of-Your-Own-Sensory-Palette%3A-A-Workshop-for-Educators-%28STATE%29
STATUS:CONFIRMED
END:VEVENT
END:VCALENDAR