BEGIN:VCALENDAR
VERSION:2.0
PRODID:-//hacksw/handcal//NONSGML v1.0//EN
METHOD:PUBLISH
BEGIN:VEVENT
UID:pdnetworks-15375@soesd.k12.or.us
SEQUENCE:6
DTSTAMP:20260423T043934
DTSTART:20260427T180000
DTEND:20260427T210000
SUMMARY:(94286) Building Relationships Across Cultures: Strategies for Cultural Intelligence in Early Education (STATE) - PDNetworks Workshop
LOCATION:Clackamas ESD - Online/Virtual     - Online/Virtual
X-ALT-DESC;FMTTYPE=text/html:Clackamas ESD - Online/Virtual     - Online/Virtual<br/><br/><span style="font-size:12pt"><span style="font-family:Calibri\,sans-serif"><span style="color:#000000">Description:&nbsp\;<span style="background-color:#ffffff">Explore strategies for building positive partnerships with diverse families and communities in early education. Respect cultural strengths while coordinating community resources. Engage families to foster inclusivity and enhance children&#39\;s learning experiences.</span><br/>Set: 2<br/>CKC: DIV / FCS<br/>ARC: No Age-Related Content</span></span></span><br/>&nbsp\;<br/><br/><br/><br/> For more information on this event\, go to https://pdnetworks.soesd.k12.or.us/public/events/view-event/15375/%2894286%29-Building-Relationships-Across-Cultures%3A-Strategies-for-Cultural-Intelligence-in-Early-Education-%28STATE%29
STATUS:CONFIRMED
END:VEVENT
END:VCALENDAR