BEGIN:VCALENDAR
VERSION:2.0
PRODID:-//hacksw/handcal//NONSGML v1.0//EN
METHOD:PUBLISH
BEGIN:VEVENT
UID:pdnetworks-15387@soesd.k12.or.us
SEQUENCE:5
DTSTAMP:20260423T081425
DTSTART:20260504T173000
DTEND:20300401T213000
SUMMARY:94289 Особенности использования комплексных подходов к развитию социальных\, коммуникативных и когнитивных навыков у детей с РАС в практической деятельности  (Features of the Use of Comprehensive Approaches to Developing Social\, Communication\, (STATE) - PDNetworks Workshop
LOCATION:Clackamas ESD - Online/Virtual     - Online/Virtual
X-ALT-DESC;FMTTYPE=text/html:Clackamas ESD - Online/Virtual     - Online/Virtual<br/><br/><span style="font-size:12pt"><span style="font-family:Calibri\,sans-serif"><span style="color:#000000">Description:&nbsp\;</span></span></span><br/><br/><p style="margin-right:32px"><span style="font-size:12pt"><span style="font-family:Calibri\,sans-serif"><span style="color:#000000"><span style="background-color:#ffffff">В ходе тренинга мы исследуем особенности практического применения различных целостных методов\, направленных на улучшение социальных\, коммуникативных и когнитивных способностей у детей с РАС. Мы рассмотрим такие методы\, как RDI (развитие межличностных отношений)\, DIR/Floortime и модель Early Start Denver. Мы подробно обсудим преимущества&nbsp\; и возможные сложности использования этих подходов. Каждый участник подберет для себя палитру приемов\, которые он сможет использовать в своей практике.</span></span></span></span></p><br/><br/><span style="font-size:12pt"><span style="font-family:Calibri\,sans-serif"><span style="color:#000000">Set: 2<br/>CKC: SN<br/>ARC: Infant / Toddler\, Preschool\, and School Age<br/><br/><span style="background-color:#ffffff">During the training\, we will explore the practical application of various holistic methods aimed at improving social\, communication\, and cognitive skills in children with ASD. We will examine approaches such as RDI (Relationship Development Intervention)\, DIR/Floortime\, and the Early Start Denver Model. We will discuss in detail the advantages and potential challenges of using these methods. Each participant will select a set of techniques that they can implement in their practice.</span></span></span></span><br/>&nbsp\;<br/><br/><br/><br/> For more information on this event\, go to https://pdnetworks.soesd.k12.or.us/public/events/view-event/15387/94289-%D0%9E%D1%81%D0%BE%D0%B1%D0%B5%D0%BD%D0%BD%D0%BE%D1%81%D1%82%D0%B8-%D0%B8%D1%81%D0%BF%D0%BE%D0%BB%D1%8C%D0%B7%D0%BE%D0%B2%D0%B0%D0%BD%D0%B8%D1%8F-%D0%BA%D0%BE%D0%BC%D0%BF%D0%BB%D0%B5%D0%BA%D1%81%D0%BD%D1%8B%D1%85-%D0%BF%D0%BE%D0%B4%D1%85%D0%BE%D0%B4%D0%BE%D0%B2-%D0%BA-%D1%80%D0%B0%D0%B7%D0%B2%D0%B8%D1%82%D0%B8%D1%8E-%D1%81%D0%BE%D1%86%D0%B8%D0%B0%D0%BB%D1%8C%D0%BD%D1%8B%D1%85%2C-%D0%BA%D0%BE%D0%BC%D0%BC%D1%83%D0%BD%D0%B8%D0%BA%D0%B0%D1%82%D0%B8%D0%B2%D0%BD%D1%8B%D1%85-%D0%B8-%D0%BA%D0%BE%D0%B3%D0%BD%D0%B8%D1%82%D0%B8%D0%B2%D0%BD%D1%8B%D1%85-%D0%BD%D0%B0%D0%B2%D1%8B%D0%BA%D0%BE%D0%B2-%D1%83-%D0%B4%D0%B5%D1%82%D0%B5%D0%B9-%D1%81-%D0%A0%D0%90%D0%A1-%D0%B2-%D0%BF%D1%80%D0%B0%D0%BA%D1%82%D0%B8%D1%87%D0%B5%D1%81%D0%BA%D0%BE%D0%B9-%D0%B4%D0%B5%D1%8F%D1%82%D0%B5%D0%BB%D1%8C%D0%BD%D0%BE%D1%81%D1%82%D0%B8--%28Features-of-the-Use-of-Comprehensive-Approaches-to-Developing-Social%2C-Communication%2C-%28STATE%29
STATUS:CONFIRMED
END:VEVENT
END:VCALENDAR