BEGIN:VCALENDAR
VERSION:2.0
PRODID:-//hacksw/handcal//NONSGML v1.0//EN
METHOD:PUBLISH
BEGIN:VEVENT
UID:pdnetworks-15397@soesd.k12.or.us
SEQUENCE:5
DTSTAMP:20260423T043816
DTSTART:20260430T180000
DTEND:20260430T210000
SUMMARY:(94288) Curious\, Playful\, Capable Children: How Playful Inquiry Approaches Reveals Children’s Assets and Capabilities through Exploration and Discovery (STATE) - PDNetworks Workshop
LOCATION:Clackamas ESD - Online/Virtual     - Online/Virtual
X-ALT-DESC;FMTTYPE=text/html:Clackamas ESD - Online/Virtual     - Online/Virtual<br/><br/><span style="font-size:12pt"><span style="font-family:Calibri\,sans-serif"><span style="color:#000000">Description:&nbsp\;The science of learning documents that play and joy is essential to how children learn. This session explores children&#39\;s natural capabilities and the ways in which Playful Inquiry Approaches supports their emergence. Strategies to nurture capabilities will be considered.<br/>Set: 2<br/>CKC: HGD<br/>ARC: Preschool</span></span></span><br/>&nbsp\;<br/><br/><br/><br/> For more information on this event\, go to https://pdnetworks.soesd.k12.or.us/public/events/view-event/15397/%2894288%29-Curious%2C-Playful%2C-Capable-Children%3A-How-Playful-Inquiry-Approaches-Reveals-Children%E2%80%99s-Assets-and-Capabilities-through-Exploration-and-Discovery-%28STATE%29
STATUS:CONFIRMED
END:VEVENT
END:VCALENDAR