BEGIN:VCALENDAR
VERSION:2.0
PRODID:-//hacksw/handcal//NONSGML v1.0//EN
METHOD:PUBLISH
BEGIN:VEVENT
UID:pdnetworks-15399@soesd.k12.or.us
SEQUENCE:7
DTSTAMP:20260423T080739
DTSTART:20260504T180000
DTEND:20260504T200000
SUMMARY:(94290) ADHD 201 (STATE) - PDNetworks Workshop
LOCATION:Clackamas ESD - Online/Virtual     - Online/Virtual
X-ALT-DESC;FMTTYPE=text/html:Clackamas ESD - Online/Virtual     - Online/Virtual<br/><br/><span style="font-size:12pt"><span style="font-family:Calibri\,sans-serif"><span style="color:#000000">Description:&nbsp\;ADHD 201 reviews information about attention-deficit/hyperactivity disorder\, including the traits\, history\, causes\, treatments\, and an overview of how you can support someone with ADHD in the classroom or daycare setting.<br/>Set: 2<br/>CKC: SN<br/>ARC: Infant / Toddler\, Preschool and School Age</span></span></span><br/>&nbsp\;<br/><br/><br/><br/> For more information on this event\, go to https://pdnetworks.soesd.k12.or.us/public/events/view-event/15399/%2894290%29-ADHD-201-%28STATE%29
STATUS:CONFIRMED
END:VEVENT
END:VCALENDAR