BEGIN:VCALENDAR
VERSION:2.0
PRODID:-//hacksw/handcal//NONSGML v1.0//EN
METHOD:PUBLISH
BEGIN:VEVENT
UID:pdnetworks-15401@soesd.k12.or.us
SEQUENCE:4
DTSTAMP:20260423T080840
DTSTART:20260505T180000
DTEND:20260505T210000
SUMMARY:(94291) Important Conversations With Families: Cultivating Respectful and Clear Partnerships (STATE) - PDNetworks Workshop
LOCATION:Clackamas ESD - Online/Virtual     - Online/Virtual
X-ALT-DESC;FMTTYPE=text/html:Clackamas ESD - Online/Virtual     - Online/Virtual<br/><br/><span style="font-size:12pt"><span style="font-family:Calibri\,sans-serif"><span style="color:#000000">Description:&nbsp\;<span style="background-color:#ffffff">Ideally\, we are always in a peaceful partnership with the families that we serve. Yet\, sometimes we must have conversations that are difficult and uncomfortable\, which may put that partnership at risk. Examine ways to create a safe\, trusting atmosphere\, explore ways to communicate when emotions run high\, and maintain a relationship that is respectful\, clear\, and effective.</span><br/>Set: 2<br/>CKC: FCS<br/>ARC: No Age-Related Content</span></span></span><br/>&nbsp\;<br/><br/><br/><br/> For more information on this event\, go to https://pdnetworks.soesd.k12.or.us/public/events/view-event/15401/%2894291%29-Important-Conversations-With-Families%3A-Cultivating-Respectful-and-Clear-Partnerships-%28STATE%29
STATUS:CONFIRMED
END:VEVENT
END:VCALENDAR