BEGIN:VCALENDAR
VERSION:2.0
PRODID:-//hacksw/handcal//NONSGML v1.0//EN
METHOD:PUBLISH
BEGIN:VEVENT
UID:pdnetworks-15403@soesd.k12.or.us
SEQUENCE:6
DTSTAMP:20260423T081107
DTSTART:20260507T180000
DTEND:20260507T193000
SUMMARY:(94293) Conceptos Básicos del Registro De Oregon (Oregon Registry Basics) (STATE) - PDNetworks Workshop
LOCATION:Clackamas ESD - Online/Virtual     - Online/Virtual
X-ALT-DESC;FMTTYPE=text/html:Clackamas ESD - Online/Virtual     - Online/Virtual<br/><br/><span style="font-size:12pt"><span style="font-family:Calibri\,sans-serif"><span style="color:#000000">Description:&nbsp\;</span></span></span><br/><br/><p><span style="font-size:12pt"><span style="font-family:Calibri\,sans-serif"><span style="color:#000000">&Uacute\;nase a esta sesi&oacute\;n para aprender sobre el Registro de Oregon\, c&oacute\;mo est&aacute\; dise&ntilde\;ado el Registro de Oregon en l&iacute\;nea (ORO) para los profesionales del aprendizaje temprano y qu&eacute\; recursos est&aacute\;n disponibles para ayudarlo a alcanzar sus objetivos de desarrollo&nbsp\;</span></span></span></p><br/><br/><br/><br/><hr /><br/><br/><p><span style="font-size:12pt"><span style="font-family:Calibri\,sans-serif"><span style="color:#000000">Join this session to learn about the Oregon Registry\, how Oregon Registry Online (ORO) is designed for the Early Learning Professional\, and what resources are available to help you achieve your professional development goals.</span></span></span></p><br/><br/><span style="font-size:12pt"><span style="font-family:Calibri\,sans-serif"><span style="color:#000000">Set: 1<br/>CKC: PPLD<br/>ARC: No Age-Related Content</span></span></span><br/>&nbsp\;<br/><br/><br/><br/> For more information on this event\, go to https://pdnetworks.soesd.k12.or.us/public/events/view-event/15403/%2894293%29-Conceptos-B%C3%A1sicos-del-Registro-De-Oregon-%28Oregon-Registry-Basics%29-%28STATE%29
STATUS:CONFIRMED
END:VEVENT
END:VCALENDAR