BEGIN:VCALENDAR
VERSION:2.0
PRODID:-//hacksw/handcal//NONSGML v1.0//EN
METHOD:PUBLISH
BEGIN:VEVENT
UID:pdnetworks-15404@soesd.k12.or.us
SEQUENCE:7
DTSTAMP:20260423T081215
DTSTART:20260511T180000
DTEND:20260511T210000
SUMMARY:(94295) Examining Special Needs and the Laws That Govern Them (STATE) - PDNetworks Workshop
LOCATION:Clackamas ESD - Online/Virtual     - Online/Virtual
X-ALT-DESC;FMTTYPE=text/html:Clackamas ESD - Online/Virtual     - Online/Virtual<br/><br/><span style="font-size:12pt"><span style="font-family:Calibri\,sans-serif"><span style="color:#000000">Description: Participants will examine the distinctions\, similarities and differences among the types of special needs.&nbsp\; They will explore the categories of disability in Federal Special Education Law.</span></span></span><br/><br/><span style="font-size:12pt"><span style="font-family:Calibri\,sans-serif"><span style="color:#000000">Set: 2<br/>CKC: SN<br/>ARC:No Age-Related Content</span></span></span><br/>&nbsp\;<br/><br/><br/><br/> For more information on this event\, go to https://pdnetworks.soesd.k12.or.us/public/events/view-event/15404/%2894295%29-Examining-Special-Needs-and-the-Laws-That-Govern-Them-%28STATE%29
STATUS:CONFIRMED
END:VEVENT
END:VCALENDAR