BEGIN:VCALENDAR
VERSION:2.0
PRODID:-//hacksw/handcal//NONSGML v1.0//EN
METHOD:PUBLISH
BEGIN:VEVENT
UID:pdnetworks-15405@soesd.k12.or.us
SEQUENCE:4
DTSTAMP:20260423T081452
DTSTART:20260512T180000
DTEND:20260512T210000
SUMMARY:(94296) Learning to Spot our Blind Spots: Understanding Implicit Bias and Working to Eliminate It In Our Teaching Practices (STATE) - PDNetworks Workshop
LOCATION:Clackamas ESD - Online/Virtual     - Online/Virtual
X-ALT-DESC;FMTTYPE=text/html:Clackamas ESD - Online/Virtual     - Online/Virtual<br/><br/><span style="font-size:12pt"><span style="font-family:Calibri\,sans-serif"><span style="color:#000000">Description:&nbsp\;Implicit biases are attitudes and stereotypes that affect our understanding\, actions\, and decisions in an unconscious manner\, we all have them. In this class\, we will explore how these biases impact young children in our programs and develop strategies to recognize and rewrite these subconscious messages.<br/>Set: 2<br/>CKC: DIV<br/>ARC: Infant / Toddler and Preschool</span></span></span><br/>&nbsp\;<br/><br/><br/><br/> For more information on this event\, go to https://pdnetworks.soesd.k12.or.us/public/events/view-event/15405/%2894296%29-Learning-to-Spot-our-Blind-Spots%3A-Understanding-Implicit-Bias-and-Working-to-Eliminate-It-In-Our-Teaching-Practices-%28STATE%29
STATUS:CONFIRMED
END:VEVENT
END:VCALENDAR