BEGIN:VCALENDAR
VERSION:2.0
PRODID:-//hacksw/handcal//NONSGML v1.0//EN
METHOD:PUBLISH
BEGIN:VEVENT
UID:pdnetworks-15406@soesd.k12.or.us
SEQUENCE:5
DTSTAMP:20260423T081534
DTSTART:20260514T180000
DTEND:20260514T210000
SUMMARY:(94298) La Aculturación y la Experiencia Latinoamericana (Acculturation and the Latin-American Experience) (STATE) - PDNetworks Workshop
LOCATION:Clackamas ESD - Online/Virtual     - Online/Virtual
X-ALT-DESC;FMTTYPE=text/html:Clackamas ESD - Online/Virtual     - Online/Virtual<br/><br/><span style="font-size:12pt"><span style="font-family:Calibri\,sans-serif"><span style="color:#000000">Description:&nbsp\;</span></span></span><br/><br/><p style="margin-right:32px"><span style="font-size:12pt"><span style="font-family:Calibri\,sans-serif"><span style="color:#000000">En esta capacitaci&oacute\;n\, los participantes examinar&aacute\;n las diferencias culturales relacionadas con el trauma y el estr&eacute\;s dentro de la comunidad latinoamericana. Se discutir&aacute\; el impacto de la aculturaci&oacute\;n\, y los participantes obtendr&aacute\;n estrategias que podr&aacute\;n implementar en sus entornos de cuidado infantil para honrar y respetar las culturas de las familias a las que sirven.</span></span></span></p><br/><br/><br/><br/><hr /><br/><br/><p style="margin-right:32px"><span style="font-size:12pt"><span style="font-family:Calibri\,sans-serif"><span style="color:#000000">Within this training participants will examine cultural differences regarding trauma and stress within the Latin American community. We will discuss the impact of acculturation and participants will walk away with strategies to implement within their child care to honor and respect families&#39\; cultures.</span></span></span></p><br/><br/><span style="font-size:12pt"><span style="font-family:Calibri\,sans-serif"><span style="color:#000000">Set: 2<br/>CKC: FCS<br/>ARC: No Age-Related Content</span></span></span><br/>&nbsp\;<br/><br/><br/><br/> For more information on this event\, go to https://pdnetworks.soesd.k12.or.us/public/events/view-event/15406/%2894298%29-La-Aculturaci%C3%B3n-y-la-Experiencia-Latinoamericana-%28Acculturation-and-the-Latin-American-Experience%29-%28STATE%29
STATUS:CONFIRMED
END:VEVENT
END:VCALENDAR