BEGIN:VCALENDAR
VERSION:2.0
PRODID:-//hacksw/handcal//NONSGML v1.0//EN
METHOD:PUBLISH
BEGIN:VEVENT
UID:pdnetworks-15408@soesd.k12.or.us
SEQUENCE:5
DTSTAMP:20260423T081516
DTSTART:20260528T180000
DTEND:20260528T190000
SUMMARY:(94300) Oregon Registry Basics (STATE) - PDNetworks Workshop
LOCATION:Clackamas ESD - Online/Virtual     - Online/Virtual
X-ALT-DESC;FMTTYPE=text/html:Clackamas ESD - Online/Virtual     - Online/Virtual<br/><br/><span style="font-size:12pt"><span style="font-family:Calibri\,sans-serif"><span style="color:#000000">Description:&nbsp\;Join this session to learn about the Oregon Registry\, how Oregon Registry Online (ORO) is designed for the Early Learning Professional\, and what resources are available to help you achieve your professional development goals.<br/>Set: 1<br/>CKC: PPLD<br/>ARC: No Age-Related Content</span></span></span><br/>&nbsp\;<br/><br/><br/><br/> For more information on this event\, go to https://pdnetworks.soesd.k12.or.us/public/events/view-event/15408/%2894300%29-Oregon-Registry-Basics-%28STATE%29
STATUS:CONFIRMED
END:VEVENT
END:VCALENDAR