BEGIN:VCALENDAR
VERSION:2.0
PRODID:-//hacksw/handcal//NONSGML v1.0//EN
METHOD:PUBLISH
BEGIN:VEVENT
UID:pdnetworks-15440@soesd.k12.or.us
SEQUENCE:8
DTSTAMP:20260423T080906
DTSTART:20260504T183000
DTEND:20260504T203000
SUMMARY:(94639) Blended Pediatric Plus (CPR\, AED\, First Aid for Adults\, Children\, and Infants) ENGLISH (CCRR) - PDNetworks Workshop
LOCATION:Clackamas ESD - Sunnybrook 13455 SE 97th Ave Clackamas OR 97015 - New Era/Springwater (Combined) Conference Room
X-ALT-DESC;FMTTYPE=text/html:Clackamas ESD - Sunnybrook 13455 SE 97th Ave Clackamas OR 97015 - New Era/Springwater (Combined) Conference Room<br/><br/><p><span style="font-size:11pt"><span style="font-family:Arial\,sans-serif"><span style="color:#000000">First aid and CPR (cardio-pulmonary resuscitation) for children\, infants\, and adults. Current first aid and CPR certifications are required for certified and registered family child care providers as well as for some staff in certified child care centers. This training meets OCC licensing requirements as well as requirements for the ERDC enhanced rate.</span></span></span></p><br/><br/>&nbsp\;<br/><br/><br/><br/><p><span style="font-size:11pt"><span style="font-family:Arial\,sans-serif"><span style="color:#000000">This training is a blended training. The first 3-4 hours are online and the last part is in-person training using mannequins. The online portion must be completed before attending the in-person class. When payment and registration are received\, participants will be emailed the link to complete the online portion within 2 business days.</span></span></span><br/><span style="color:#000000\; font-family:Calibri\,sans-serif\; font-size:12pt">Set: 1</span><br/><span style="color:#000000\; font-family:Calibri\,sans-serif\; font-size:12pt">CKC: HSN</span><br/><span style="color:#000000\; font-family:Calibri\,sans-serif\; font-size:12pt">ARC: n/a</span></p><br/><br/><strong>If you are a certified or registered family provider in Clackamas County and your name is on your license\, you qualify for FREE CPR/First Aid renewal. Please call 503-675-4100 to sign up.&nbsp\;</strong><br/><br/><br/><br/> For more information on this event\, go to https://pdnetworks.soesd.k12.or.us/public/events/view-event/15440/%2894639%29-Blended-Pediatric-Plus-%28CPR%2C-AED%2C-First-Aid-for-Adults%2C-Children%2C-and-Infants%29-ENGLISH-%28CCRR%29
STATUS:CONFIRMED
END:VEVENT
END:VCALENDAR