BEGIN:VCALENDAR
VERSION:2.0
PRODID:-//hacksw/handcal//NONSGML v1.0//EN
METHOD:PUBLISH
BEGIN:VEVENT
UID:pdnetworks-15469@soesd.k12.or.us
SEQUENCE:9
DTSTAMP:20260423T080913
DTSTART:20260519T180000
DTEND:20260519T210000
SUMMARY:(94543) Adverse Childhood Experiences and Toxic Stress in Young Children: Trauma Informed Teaching and Caregiving (CCRR) - PDNetworks Workshop
LOCATION:Clackamas ESD - Online/Virtual     - Online/Virtual
X-ALT-DESC;FMTTYPE=text/html:Clackamas ESD - Online/Virtual     - Online/Virtual<br/><br/><span style="font-size:12pt"><span style="font-family:Calibri\,sans-serif"><span style="color:#000000">Description:&nbsp\;</span></span></span>In this Trauma-Informed Teaching series\, we are introducing Adverse Childhood Experiences and the effects it has on a child&#39\;s social-emotional development and behaviors within families and community systems.<br/><span style="font-size:12pt"><span style="font-family:Calibri\,sans-serif"><span style="color:#000000">Set: 1<br/>CKC: Health\, Safety &amp\; Nutrition<br/>ARC: No Age-Related Content</span></span></span><br/>&nbsp\;<br/><br/><br/><br/> For more information on this event\, go to https://pdnetworks.soesd.k12.or.us/public/events/view-event/15469/%2894543%29-Adverse-Childhood-Experiences-and-Toxic-Stress-in-Young-Children%3A-Trauma-Informed-Teaching-and-Caregiving-%28CCRR%29
STATUS:CONFIRMED
END:VEVENT
END:VCALENDAR