BEGIN:VCALENDAR
VERSION:2.0
PRODID:-//hacksw/handcal//NONSGML v1.0//EN
METHOD:PUBLISH
BEGIN:VEVENT
UID:pdnetworks-15471@soesd.k12.or.us
SEQUENCE:12
DTSTAMP:20260423T081615
DTSTART:20260520T120000
DTEND:20260520T133000
SUMMARY:(94548) Every Child Belongs Starts with Adults (STATE) - PDNetworks Workshop
LOCATION:Clackamas ESD - Online/Virtual     - Online/Virtual
X-ALT-DESC;FMTTYPE=text/html:Clackamas ESD - Online/Virtual     - Online/Virtual<br/><br/><span style="font-size:12pt"><span style="font-family:Calibri\,sans-serif"><span style="color:#000000">Description:&nbsp\;</span></span></span>This session is for adults supporting early childhood systems and communities. We&rsquo\;ll explore how emotions\, stress\, relationships\, and workplace dynamics shape environments where children and families feel they belong. Participants will reflect on social‑emotional skills\, practice caring responses\, and identify flexible strategies that strengthen connection and well‑being.<br/><br/>Set: 2<br/><span style="font-size:12pt"><span style="font-family:Calibri\,sans-serif"><span style="color:#000000">CKC: <span style="font-size:14px">Understanding &amp\; Guiding Behavior</span><br/>ARC: <span style="font-size:14px">No Age-Related Content</span></span></span></span><br/>&nbsp\;<br/><br/><br/><br/> For more information on this event\, go to https://pdnetworks.soesd.k12.or.us/public/events/view-event/15471/%2894548%29-Every-Child-Belongs-Starts-with-Adults-%28STATE%29
STATUS:CONFIRMED
END:VEVENT
END:VCALENDAR