BEGIN:VCALENDAR
VERSION:2.0
PRODID:-//hacksw/handcal//NONSGML v1.0//EN
METHOD:PUBLISH
BEGIN:VEVENT
UID:pdnetworks-15520@soesd.k12.or.us
SEQUENCE:6
DTSTAMP:20260423T081101
DTSTART:20260506T180000
DTEND:20260506T210000
SUMMARY:(95044) Todos en la misma página: educadores y familias trabajando juntos - Spanish (All on the Same Page - Educators and Families Working Together) (CCRR) - PDNetworks Workshop
LOCATION:Clackamas ESD - Online/Virtual     - Online/Virtual
X-ALT-DESC;FMTTYPE=text/html:Clackamas ESD - Online/Virtual     - Online/Virtual<br/><br/><span style="font-size:12pt"><span style="font-family:Calibri\,sans-serif"><span style="color:#000000">Descripci&oacute\;n: Esta capacitaci&oacute\;n fue creada para apoyar a todos los niveles de educadores en la primera infancia. Examina dos teor&iacute\;as: el pensamiento cr&iacute\;tico y la planificaci&oacute\;n intencional para la participaci&oacute\;n familiar con el fin de crear entornos de aprendizaje temprano m&aacute\;s inclusivos.<br/><br/>Description:&nbsp\;</span></span></span>This training was created to support all levels of educators in early childhood. Examine two theories\; critical thinking and intentional planning for Family Engagement to create more inclusive early learning environments.<br/><br/><span style="font-size:12pt"><span style="font-family:Calibri\,sans-serif"><span style="color:#000000">Set: 2<br/>CKC: FCS\, OA<br/>ARC: Pre-school</span></span></span><br/>&nbsp\;<br/><br/><br/><br/> For more information on this event\, go to https://pdnetworks.soesd.k12.or.us/public/events/view-event/15520/%2895044%29-Todos-en-la-misma-p%C3%A1gina%3A-educadores-y-familias-trabajando-juntos---Spanish-%28All-on-the-Same-Page---Educators-and-Families-Working-Together%29-%28CCRR%29
STATUS:CONFIRMED
END:VEVENT
END:VCALENDAR