BEGIN:VCALENDAR
VERSION:2.0
PRODID:-//hacksw/handcal//NONSGML v1.0//EN
METHOD:PUBLISH
BEGIN:VEVENT
UID:pdnetworks-15528@soesd.k12.or.us
SEQUENCE:18
DTSTAMP:20260423T065023
DTSTART:20260407T180000
DTEND:20260505T210000
SUMMARY:(95049) ZERO TO THREE Critical Competencies for Infant-Toddler Educators Area 2: Supporting Cognitive Development - Cohort Series (CCRR) - PDNetworks Workshop
LOCATION:Clackamas ESD - Online/Virtual     - Online/Virtual
X-ALT-DESC;FMTTYPE=text/html:Clackamas ESD - Online/Virtual     - Online/Virtual<br/><br/><span style="font-size:12pt"><span style="font-family:Calibri\,sans-serif"><span style="color:#000000">Description:&nbsp\;</span></span></span>Babies are born learning! The newborn seeks out experiences and interactions. It is critical that early childhood educators build knowledge and skills to support cognitive development in this important time in a child&#39\;s development. This session explores the cognitive development of the infant and toddler. You will examine strategies to support cognitive development while children are in care.<br/><br/><span style="font-size:12pt"><span style="font-family:Calibri\,sans-serif"><span style="color:#000000">This is a (4) session cohort. All participants MUST attend ALL classes in order to receive ORO hours/credit.<br/>4/7/2026 (6:00-9:00PM) - C1 Facilitating Exploration and Concept Development<br/>4/14/2026 (6:00-9:00PM) - C2 Building Meaningful Conversations<br/>4/28/2026 (6:00-9:00PM) - C3 Promoting Imitation\, Symbolic Representation\, and Play<br/>5/5/2026 (6:00-9:00PM) - C4 Supporting Reasoning and Problem Solving<br/>Set: Oregon Priority Set<br/>CKC: HGD\, LEC<br/>ARC: Infant / Toddler</span></span></span><br/>&nbsp\;<br/><br/><br/><br/> For more information on this event\, go to https://pdnetworks.soesd.k12.or.us/public/events/view-event/15528/%2895049%29-ZERO-TO-THREE-Critical-Competencies-for-Infant-Toddler-Educators-Area-2%3A-Supporting-Cognitive-Development---Cohort-Series-%28CCRR%29
STATUS:CONFIRMED
END:VEVENT
END:VCALENDAR