BEGIN:VCALENDAR
VERSION:2.0
PRODID:-//hacksw/handcal//NONSGML v1.0//EN
METHOD:PUBLISH
BEGIN:VEVENT
UID:pdnetworks-15529@soesd.k12.or.us
SEQUENCE:18
DTSTAMP:20260423T092754
DTSTART:20260519T180000
DTEND:20260602T210000
SUMMARY:(95051) ZERO TO THREE Critical Competencies for Infant-Toddler Educators Area 3 - Supporting Language and Literacy Development (CCRR) - PDNetworks Workshop
LOCATION:Clackamas ESD - Online/Virtual     - Online/Virtual
X-ALT-DESC;FMTTYPE=text/html:Clackamas ESD - Online/Virtual     - Online/Virtual<br/><br/><span style="font-size:12pt"><span style="font-family:Calibri\,sans-serif"><span style="color:#000000">Description:&nbsp\;</span></span></span>Language and literacy are fascinating and critical parts of child development required for overall learning and relationships. The foundation is laid in infancy and toddlerhood. In Area 3\, participants will explore teaching strategies and practices to support young children to develop communication skills needed in later school and adult life.<br/><br/><p>This is a (4) session cohort. All participants MUST attend ALL classes in order to receive ORO hours/credit.</p><br/><br/><br/><br/><p>5/19/2026 (6:00-9:00PM) - LL1 Promoting Communication Exchange<br/>5/26/2026 (6:00-9:00PM) - LL2 Expanding Expressive and Receptive Language &amp\; Vocabulary<br/>6/2/2026 (6:00-9:00PM) - LL3 Promoting Early Literacy</p><br/><br/><span style="font-size:12pt"><span style="font-family:Calibri\,sans-serif"><span style="color:#000000">Set: Oregon Priority Set<br/>CKC: HGD\, LEC<br/>ARC: Infant / Toddler</span></span></span><br/>&nbsp\;<br/><br/><br/><br/> For more information on this event\, go to https://pdnetworks.soesd.k12.or.us/public/events/view-event/15529/%2895051%29-ZERO-TO-THREE-Critical-Competencies-for-Infant-Toddler-Educators-Area-3---Supporting-Language-and-Literacy-Development-%28CCRR%29
STATUS:CONFIRMED
END:VEVENT
END:VCALENDAR