BEGIN:VCALENDAR
VERSION:2.0
PRODID:-//hacksw/handcal//NONSGML v1.0//EN
METHOD:PUBLISH
BEGIN:VEVENT
UID:pdnetworks-15530@soesd.k12.or.us
SEQUENCE:3
DTSTAMP:20260423T080940
DTSTART:20260514T080000
DTEND:20260514T150000
SUMMARY:Building Thinking Classrooms In-Person Workshop for High School Educators - PDNetworks Workshop
LOCATION:Oregon City High School 19761 S Beavercreek Rd Oregon City OR 97045 - 
X-ALT-DESC;FMTTYPE=text/html:Oregon City High School 19761 S Beavercreek Rd Oregon City OR 97045 - <br/><br/><em>Across the US and in Oregon\, there is growing teacher enthusiasm around BTC practices. <strong>In a BTC classroom\, K-12 students work on math tasks in collaborative teams.</strong> Twenty+ years of research backs up these approaches: students engage more\, learn more\, and get excited about math.</em><span style="font-size:14px">At this full day training\,<strong> </strong>teachers will experience <a href="https://www.buildingthinkingclassrooms.com/">Building Thinking Classrooms</a>&nbsp\;(BTC) math practices.</span><br/><br/>Hosted by Clackamas ESD Math Specialist\, Lori MacKenzie<br/><br/>This event will begin at Oregon City High School. We will then move to Clackamas Community College for the remainder of the day.<br/><br/><span style="color:#0033ff"><strong>You will:</strong></span><br/><br/><ul><br/><br/>	<li><span style="color:#0033ff"><strong>Personally experience a BTC activity\, in the role of a student</strong></span></li><br/><br/>	<li><span style="color:#0033ff"><strong>Learn about BTC Practices</strong></span></li><br/><br/>	<li><span style="color:#0033ff"><strong>Visit classrooms at Oregon City High School and Clackamas Community College using BTC practices</strong></span></li><br/><br/>	<li><span style="color:#0033ff"><strong>Ask students and educators questions about the impacts of BTC</strong></span></li><br/><br/></ul><br/><br/><br/><br/><br/><br/> For more information on this event\, go to https://pdnetworks.soesd.k12.or.us/public/events/view-event/15530/Building-Thinking-Classrooms-In-Person-Workshop-for-High-School-Educators
STATUS:CONFIRMED
END:VEVENT
END:VCALENDAR