BEGIN:VCALENDAR
VERSION:2.0
PRODID:-//hacksw/handcal//NONSGML v1.0//EN
METHOD:PUBLISH
BEGIN:VEVENT
UID:pdnetworks-15552@soesd.k12.or.us
SEQUENCE:6
DTSTAMP:20260423T060502
DTSTART:20260409T180000
DTEND:20260409T190000
SUMMARY:(95054) Get to know 211info (STATE) - PDNetworks Workshop
LOCATION:Clackamas ESD - Online/Virtual     - Online/Virtual
X-ALT-DESC;FMTTYPE=text/html:Clackamas ESD - Online/Virtual     - Online/Virtual<br/><br/><span style="font-size:12pt"><span style="font-family:Calibri\,sans-serif"><span style="color:#000000">Description:&nbsp\;211info helps communities identify\, navigate\, and connect with the local resources they need. This presentation will cover the basics of the services that 211info offers. We will discuss 211info&rsquo\;s Child Care and Community Service referrals and different ways that 211info can help you and the families of children in your care.<br/>Set: 1<br/>CKC: PM<br/>ARC: No Age-Related Content</span></span></span><br/>&nbsp\;<br/><br/><br/><br/> For more information on this event\, go to https://pdnetworks.soesd.k12.or.us/public/events/view-event/15552/%2895054%29-Get-to-know-211info-%28STATE%29
STATUS:CONFIRMED
END:VEVENT
END:VCALENDAR