BEGIN:VCALENDAR
VERSION:2.0
PRODID:-//hacksw/handcal//NONSGML v1.0//EN
METHOD:PUBLISH
BEGIN:VEVENT
UID:pdnetworks-15588@soesd.k12.or.us
SEQUENCE:4
DTSTAMP:20260419T094446
DTSTART:20260413T180000
DTEND:20260413T193000
SUMMARY:95145 FCCO (Find Child Care Oregon): Portal de Proveedores\; Una herramienta para su negocio (FCCO (Find Child Care Oregon):Provider Portal Training\; A tool for you business) (STATE) - PDNetworks Workshop
LOCATION:Clackamas ESD - Online/Virtual     - Online/Virtual
X-ALT-DESC;FMTTYPE=text/html:Clackamas ESD - Online/Virtual     - Online/Virtual<br/><br/><span style="font-size:12pt"><span style="font-family:Calibri\,sans-serif"><span style="color:#000000">Description:&nbsp\;</span></span></span><br/><br/><p><span style="font-size:12pt"><span style="font-family:Calibri\,sans-serif"><span style="color:#000000"><span style="background-color:#ffffff">Los participantes comprender&aacute\;n la importancia de Find Child Care Oregon (Sistema de referencia de Oregon) y algunas pr&aacute\;cticas comerciales fundamentales para participar en la era digital a medida que las familias buscan Cuidado infantil.&nbsp\;</span></span></span></span></p><br/><br/><br/><br/><hr /><br/><br/><p style="margin-right:32px"><span style="font-size:12pt"><span style="font-family:Calibri\,sans-serif"><span style="color:#000000"><span style="background-color:#ffffff">Participants will gain an understanding regarding the importance of Find Child Care Oregon (Oregon&rsquo\;s referral system) and some core business practices to engage in the digital age as people search for child care.</span></span></span></span></p><br/><br/><span style="font-size:12pt"><span style="font-family:Calibri\,sans-serif"><span style="color:#000000">Set: 1<br/>CKC: PM<br/>ARC: No Age-Related Content</span></span></span><br/>&nbsp\;<br/><br/><br/><br/> For more information on this event\, go to https://pdnetworks.soesd.k12.or.us/public/events/view-event/15588/95145-FCCO-%28Find-Child-Care-Oregon%29%3A-Portal-de-Proveedores%3B-Una-herramienta-para-su-negocio-%28FCCO-%28Find-Child-Care-Oregon%29%3AProvider-Portal-Training%3B-A-tool-for-you-business%29-%28STATE%29
STATUS:CONFIRMED
END:VEVENT
END:VCALENDAR