BEGIN:VCALENDAR
VERSION:2.0
PRODID:-//hacksw/handcal//NONSGML v1.0//EN
METHOD:PUBLISH
BEGIN:VEVENT
UID:pdnetworks-15589@soesd.k12.or.us
SEQUENCE:6
DTSTAMP:20260423T060705
DTSTART:20260421T180000
DTEND:20260421T200000
SUMMARY:(95260) Suplentes de Cuidado Infantil de Oregon: Formando conexiones para apoyar el bienestar de las Comunidades de Oregon (Child Care Substitutes of Oregon: Forming connections to support the well-being of Oregon's Communities) (STATE) - PDNetworks Workshop
LOCATION:Clackamas ESD - Online/Virtual     - Online/Virtual
X-ALT-DESC;FMTTYPE=text/html:Clackamas ESD - Online/Virtual     - Online/Virtual<br/><br/><span style="font-size:12pt"><span style="font-family:Calibri\,sans-serif"><span style="color:#000000">Description:&nbsp\;</span></span></span><span style="color:#000000\; font-family:Calibri\,sans-serif\; font-size:12pt">Esta sesi&oacute\;n introduce a los participantes a los conceptos b&aacute\;sicos del programa Suplentes del Cuidado Infantil de Oregon. (Child Care Substitutes of Oregon\, CCSO por sus siglaes en ingl&eacute\;s) que incluyen: Qu&eacute\; es CCSO\, qu&eacute\; programas son elegibles para los servicios de CCSO y c&oacute\;mo inscribirse\, y cu&aacute\;les son los requisitos para convertirse en un suplente de CCSO con consejos para aplicar. Durante esta capacitaci&oacute\;n\, los participantes aprender&aacute\;n qu&eacute\; es el programa de Suplentes del Cuidado Infantil en Oregon y c&oacute\;mo pueden utilizar este servicio para satisfacer las necesidades del programa.</span><br/><br/><hr /><br/><br/><p><span style="font-size:12pt"><span style="font-family:Calibri\,sans-serif"><span style="color:#000000">This session introduces participants to the Child Care Substitutes of Oregon (CCSO) program&rsquo\;s basics that include: What is CCSO\, what programs are eligible for CCSO services and how to enroll\, &amp\; what are the requirements to become a CCSO substitute with tips for applying. During this training\, participants will learn what Child Care Substitutes of Oregon are and how they can potentially utilize this service to align with program needs.</span></span></span></p><br/><br/><span style="font-size:12pt"><span style="font-family:Calibri\,sans-serif"><span style="color:#000000">Set: 1<br/>CKC: PM<br/>ARC: No Age-Related Content</span></span></span><br/>&nbsp\;<br/><br/><br/><br/> For more information on this event\, go to https://pdnetworks.soesd.k12.or.us/public/events/view-event/15589/%2895260%29-Suplentes-de-Cuidado-Infantil-de-Oregon%3A-Formando-conexiones-para-apoyar-el-bienestar-de-las-Comunidades-de-Oregon-%28Child-Care-Substitutes-of-Oregon%3A-Forming-connections-to-support-the-well-being-of-Oregon%27s-Communities%29-%28STATE%29
STATUS:CONFIRMED
END:VEVENT
END:VCALENDAR