BEGIN:VCALENDAR
VERSION:2.0
PRODID:-//hacksw/handcal//NONSGML v1.0//EN
METHOD:PUBLISH
BEGIN:VEVENT
UID:pdnetworks-15590@soesd.k12.or.us
SEQUENCE:4
DTSTAMP:20260423T044604
DTSTART:20260429T180000
DTEND:20260429T200000
SUMMARY:(95263) Introduction to the Environment Rating Scales (ERS) (STATE) - PDNetworks Workshop
LOCATION:Clackamas ESD - Online/Virtual     - Online/Virtual
X-ALT-DESC;FMTTYPE=text/html:Clackamas ESD - Online/Virtual     - Online/Virtual<br/><br/><span style="font-size:12pt"><span style="font-family:Calibri\,sans-serif"><span style="color:#000000">Description:&nbsp\;What are the Environment Rating Scales (ERS)\, and how are they being used in Oregon&rsquo\;s Spark? This introductory training will include discussion of the three basic needs of children addressed in the ERS\, an opportunity to explore the scales\, and an overview of how the assessments will be used to support continuous quality improvement. *Not required but recommended before participating in the Implementation Modules.</span></span></span><br/><span style="font-size:12pt"><span style="font-family:Calibri\,sans-serif"><span style="color:#000000">Set: 1<br/>CKC: OA<br/>ARC: Infant / Toddler and Pre-school</span></span></span><br/>&nbsp\;<br/><br/><br/><br/> For more information on this event\, go to https://pdnetworks.soesd.k12.or.us/public/events/view-event/15590/%2895263%29-Introduction-to-the-Environment-Rating-Scales-%28ERS%29-%28STATE%29
STATUS:CONFIRMED
END:VEVENT
END:VCALENDAR