BEGIN:VCALENDAR
VERSION:2.0
PRODID:-//hacksw/handcal//NONSGML v1.0//EN
METHOD:PUBLISH
BEGIN:VEVENT
UID:pdnetworks-15591@soesd.k12.or.us
SEQUENCE:4
DTSTAMP:20260423T081138
DTSTART:20260512T180000
DTEND:20260512T200000
SUMMARY:(95327) Parte 1 Descripción General de Spark (Spark Overview Part 1) (STATE) - PDNetworks Workshop
LOCATION:Clackamas ESD - Online/Virtual     - Online/Virtual
X-ALT-DESC;FMTTYPE=text/html:Clackamas ESD - Online/Virtual     - Online/Virtual<br/><br/><span style="font-size:12pt"><span style="font-family:Calibri\,sans-serif"><span style="color:#000000">Description:&nbsp\;</span></span></span><span style="color:#000000\; font-family:Calibri\,sans-serif\; font-size:12pt">La primera parte de esta serie de dos sesiones presenta Spark de Oreg&oacute\;n\, el Sistema de Reconocimiento y Mejora de la Calidad (QRIS) del estado. Los participantes aprender&aacute\;n sobre los objetivos de Spark\, sus beneficios\, los requisitos de elegibilidad y los pasos para participar. El objetivo de esta capacitaci&oacute\;n es preparar a los proveedores para tomar una decisi&oacute\;n intencional sobre unirse a Spark e invertir en el crecimiento de la calidad de su programa. Despu&eacute\;s de esta capacitaci&oacute\;n\, los proveedores interesados podr&aacute\;n inscribirse en Parte 2 Descripci&oacute\;n General de Spark.&nbsp\;&nbsp\;</span><br/><br/><hr /><br/><br/><p style="margin-right:32px"><span style="font-size:12pt"><span style="font-family:Calibri\,sans-serif"><span style="color:#000000">Part one of this two-part series introduces Oregon&rsquo\;s Spark\, state&rsquo\;s Quality Recognition and Improvement System (QRIS). Participants will learn about Spark&rsquo\;s goals\, benefits\, eligibility requirements\, and steps to participate. The goal of this training is to prepare providers to make an intentional decision about joining Spark and investing in their program&rsquo\;s quality growth. After this training\, interested providers will be able to sign up for Spark Overview Part 2.</span></span></span></p><br/><br/><span style="font-size:12pt"><span style="font-family:Calibri\,sans-serif"><span style="color:#000000">Set: 1<br/>CKC: PM<br/>ARC: No Age-Related Content</span></span></span><br/>&nbsp\;<br/><br/><br/><br/> For more information on this event\, go to https://pdnetworks.soesd.k12.or.us/public/events/view-event/15591/%2895327%29-Parte-1-Descripci%C3%B3n-General-de-Spark-%28Spark-Overview-Part-1%29-%28STATE%29
STATUS:CONFIRMED
END:VEVENT
END:VCALENDAR