BEGIN:VCALENDAR
VERSION:2.0
PRODID:-//hacksw/handcal//NONSGML v1.0//EN
METHOD:PUBLISH
BEGIN:VEVENT
UID:pdnetworks-15592@soesd.k12.or.us
SEQUENCE:5
DTSTAMP:20260423T081339
DTSTART:20260513T180000
DTEND:20260513T200000
SUMMARY:(95328) Обзор программы Spark. Часть 1 (Spark Overview Part 1 (STATE) - PDNetworks Workshop
LOCATION:Clackamas ESD - Online/Virtual     - Online/Virtual
X-ALT-DESC;FMTTYPE=text/html:Clackamas ESD - Online/Virtual     - Online/Virtual<br/><br/><span style="font-size:12pt"><span style="font-family:Calibri\,sans-serif"><span style="color:#000000">Description:&nbsp\;</span></span></span><span style="color:#000000\; font-family:Calibri\,sans-serif\; font-size:12pt">Первая часть тренинга &ldquo\;Обзор программы Spark&rdquo\; призвана ознакомить специалистов дошкольного образования и ухода за детьми с работой программы Spark\, Системой оценки и повышения качества дошкольных учреждений в штате Орегон. Участники узнают о целях и задачах работы Spark\, преимуществах участия и имеющихся ресурсах. Цель тренинга&nbsp\; &mdash\; помочь участникам принять осознанное решение об участии в программе Spark. После прохождения первой части тренинга заинтересованные провайдеры смогут зарегистрироваться на тренинг &laquo\;Обзор программы Spark. Часть 2&raquo\;.</span><br/><br/><p style="margin-right:32px"><span style="font-size:12pt"><span style="font-family:Calibri\,sans-serif"><span style="color:#000000"><span style="background-color:#ffffff">________________________________________________________</span></span></span></span></p><br/><br/><br/><br/><p style="margin-right:32px"><span style="font-size:12pt"><span style="font-family:Calibri\,sans-serif"><span style="color:#000000"><span style="background-color:#ffffff">Part one of this two-part series introduces Oregon&rsquo\;s Spark\, state&rsquo\;s Quality Recognition and Improvement System (QRIS). Participants will learn about Spark&rsquo\;s goals\, benefits\, eligibility requirements\, and steps to participate. The goal of this training is to prepare providers to make an intentional decision about joining Spark and investing in their program&rsquo\;s quality growth. After this training\, interested providers will be able to sign up for Spark Overview Part 2.</span></span></span></span></p><br/><br/><span style="font-size:12pt"><span style="font-family:Calibri\,sans-serif"><span style="color:#000000">Set: 1<br/>CKC: PM<br/>ARC: No Age-Related Content</span></span></span><br/>&nbsp\;<br/><br/><br/><br/> For more information on this event\, go to https://pdnetworks.soesd.k12.or.us/public/events/view-event/15592/%2895328%29-%D0%9E%D0%B1%D0%B7%D0%BE%D1%80-%D0%BF%D1%80%D0%BE%D0%B3%D1%80%D0%B0%D0%BC%D0%BC%D1%8B-Spark.-%D0%A7%D0%B0%D1%81%D1%82%D1%8C-1-%28Spark-Overview-Part-1-%28STATE%29
STATUS:CONFIRMED
END:VEVENT
END:VCALENDAR