BEGIN:VCALENDAR
VERSION:2.0
PRODID:-//hacksw/handcal//NONSGML v1.0//EN
METHOD:PUBLISH
BEGIN:VEVENT
UID:pdnetworks-15593@soesd.k12.or.us
SEQUENCE:5
DTSTAMP:20260423T043734
DTSTART:20260430T180000
DTEND:20260430T210000
SUMMARY:(95274) Un hogar para su familia\, un hogar para la mía: entornos de cuidado infantil familiar para todos  (A Home for Your Family\, A Home for Mine: Family Child Care Environments for Everyone) (STATE) - PDNetworks Workshop
LOCATION:Clackamas ESD - Online/Virtual     - Online/Virtual
X-ALT-DESC;FMTTYPE=text/html:Clackamas ESD - Online/Virtual     - Online/Virtual<br/><br/><span style="font-size:12pt"><span style="font-family:Calibri\,sans-serif"><span style="color:#000000">Description:&nbsp\;</span></span></span><span style="color:#000000\; font-family:Calibri\,sans-serif\; font-size:12pt">Deje de lado las ideas tradicionales sobre c&oacute\;mo deber&iacute\;a ser un entorno de cuidado infantil en un centro y analice las ventajas de brindar cuidado en el entorno del hogar familiar. Explore c&oacute\;mo aplicar estrategias efectivas de aprendizaje temprano mientras se conserva la esencia y calidez del hogar. Ofrezca un espacio que se sienta como un hogar para los ni&ntilde\;os a su cuidado\, sus familias y su propia familia.</span><br/><br/><hr /><br/><br/><p><span style="font-size:12pt"><span style="font-family:Calibri\,sans-serif"><span style="color:#000000"><span style="background-color:#ffffff">Set aside your center-based notions of what a child care environment should be and examine the advantages of providing care in your family&#39\;s home setting. Explore how to apply effective early learning strategies while capturing the feeling of home. Provide a place that feels like home to the children in your care\, their families\, and your own family.</span></span></span></span></p><br/><br/><span style="font-size:12pt"><span style="font-family:Calibri\,sans-serif"><span style="color:#000000">Set: 2<br/>CKC: LEC<br/>ARC: Infant / Toddler\, Pre-school and School Age</span></span></span><br/>&nbsp\;<br/><br/><br/><br/> For more information on this event\, go to https://pdnetworks.soesd.k12.or.us/public/events/view-event/15593/%2895274%29-Un-hogar-para-su-familia%2C-un-hogar-para-la-m%C3%ADa%3A-entornos-de-cuidado-infantil-familiar-para-todos--%28A-Home-for-Your-Family%2C-A-Home-for-Mine%3A-Family-Child-Care-Environments-for-Everyone%29-%28STATE%29
STATUS:CONFIRMED
END:VEVENT
END:VCALENDAR