BEGIN:VCALENDAR
VERSION:2.0
PRODID:-//hacksw/handcal//NONSGML v1.0//EN
METHOD:PUBLISH
BEGIN:VEVENT
UID:pdnetworks-15594@soesd.k12.or.us
SEQUENCE:4
DTSTAMP:20260423T081631
DTSTART:20260511T170000
DTEND:20260511T210000
SUMMARY:(95301) Serie de módulos del modelo pirámide (OECI Standardized)/(SPA) Introduction to the Pyramid Model (OECI Standardized) (STATE) - PDNetworks Workshop
LOCATION:Clackamas ESD - Online/Virtual     - Online/Virtual
X-ALT-DESC;FMTTYPE=text/html:Clackamas ESD - Online/Virtual     - Online/Virtual<br/><br/><span style="font-size:12pt"><span style="font-family:Calibri\,sans-serif"><span style="color:#000000">Description:&nbsp\;</span></span></span><span style="color:#000000\; font-family:Calibri\,sans-serif\; font-size:12pt">Este m&oacute\;dulo presenta el Modelo Pir&aacute\;mide a los participantes. Los temas incluyen: la relaci&oacute\;n del Modelo Pir&aacute\;mide con la ciencia de la prevenci&oacute\;n\, la equidad\, la inclusi&oacute\;n\, la atenci&oacute\;n informada sobre traumas\, la pr&aacute\;ctica contra los prejuicios y el uso de datos para tomar decisiones\, la comprensi&oacute\;n del comportamiento infantil y la base emp&iacute\;rica para el uso del Modelo Pir&aacute\;mide.</span><br/><br/><hr /><br/><br/><p><span style="font-size:12pt"><span style="font-family:Calibri\,sans-serif"><span style="color:#000000">This module introduces the Pyramid Model framework to participants. Participants will learn about the relationship of the Pyramid Model to prevention science\, equity\, inclusion\, trauma-informed care\, anti-bias practice and the use of data for decision-making\, understanding child behavior\, and the research that provides an evidence-base for the use of the Pyramid Model.</span></span></span></p><br/><br/><span style="font-size:12pt"><span style="font-family:Calibri\,sans-serif"><span style="color:#000000">Set: 2<br/>CKC: HGD / UGB<br/>ARC: Infant / Toddler</span></span></span><br/>&nbsp\;<br/><br/><br/><br/> For more information on this event\, go to https://pdnetworks.soesd.k12.or.us/public/events/view-event/15594/%2895301%29-Serie-de-m%C3%B3dulos-del-modelo-pir%C3%A1mide-%28OECI-Standardized%29-%28SPA%29-Introduction-to-the-Pyramid-Model-%28OECI-Standardized%29-%28STATE%29
STATUS:CONFIRMED
END:VEVENT
END:VCALENDAR