BEGIN:VCALENDAR
VERSION:2.0
PRODID:-//hacksw/handcal//NONSGML v1.0//EN
METHOD:PUBLISH
BEGIN:VEVENT
UID:pdnetworks-15596@soesd.k12.or.us
SEQUENCE:4
DTSTAMP:20260423T043735
DTSTART:20260601T180000
DTEND:20260601T210000
SUMMARY:(95332) Serie de módulos del Modelo Pirámide para bebés y niños pequeños: Enfoque en relaciones (OECI Standardized) / (SPA) Pyramid Model Infant-Toddler Module Series: Focusing on Relationships (OECI Standardized) (STATE) - PDNetworks Workshop
LOCATION:Clackamas ESD - Online/Virtual     - Online/Virtual
X-ALT-DESC;FMTTYPE=text/html:Clackamas ESD - Online/Virtual     - Online/Virtual<br/><br/><span style="font-size:12pt"><span style="font-family:Calibri\,sans-serif"><span style="color:#000000">Description:&nbsp\;</span></span></span><span style="color:#000000\; font-family:Calibri\,sans-serif\; font-size:12pt">Los participantes explorar&aacute\;n la importancia y la complejidad de las relaciones entre los cuidadores\, las familias y los ni&ntilde\;os. Aprendar&aacute\;n como el desarrollo socioemocional existe en el contexto de las relaciones. Las temas incluyen la reflexi&oacute\;n sobre las relaciones pasadas y presentes de los participantes\, la cultura\, la diversidad\, la raza\, la equidad\, el riesgo y los factores de protecci&oacute\;n.&nbsp\;</span><br/><br/><hr /><br/><br/><p style="margin-right:32px"><span style="font-size:12pt"><span style="font-family:Calibri\,sans-serif"><span style="color:#000000"><span style="background-color:#ffffff">Participants will explore the importance and complexities of developing relationships between caregivers\, families\, and children. Participants will examine how social-emotional development takes place within the context of relationships. This training covers topics such as reflecting on participants&rsquo\; past and current relationships\, as well as addressing issues related to culture\, diversity\, race\, equity\, risk\, and protective factors.</span></span></span></span></p><br/><br/><span style="font-size:12pt"><span style="font-family:Calibri\,sans-serif"><span style="color:#000000">Set: 2<br/>CKC: FCS<br/>ARC: Infant / Toddler</span></span></span><br/>&nbsp\;<br/><br/><br/><br/> For more information on this event\, go to https://pdnetworks.soesd.k12.or.us/public/events/view-event/15596/%2895332%29-Serie-de-m%C3%B3dulos-del-Modelo-Pir%C3%A1mide-para-beb%C3%A9s-y-ni%C3%B1os-peque%C3%B1os%3A-Enfoque-en-relaciones-%28OECI-Standardized%29---%28SPA%29-Pyramid-Model-Infant-Toddler-Module-Series%3A-Focusing-on-Relationships-%28OECI-Standardized%29-%28STATE%29
STATUS:CONFIRMED
END:VEVENT
END:VCALENDAR