BEGIN:VCALENDAR
VERSION:2.0
PRODID:-//hacksw/handcal//NONSGML v1.0//EN
METHOD:PUBLISH
BEGIN:VEVENT
UID:pdnetworks-15597@soesd.k12.or.us
SEQUENCE:4
DTSTAMP:20260423T100650
DTSTART:20260514T180000
DTEND:20260514T200000
SUMMARY:(95329) Spark Overview Part 1 (STATE) - PDNetworks Workshop
LOCATION:Clackamas ESD - Online/Virtual     - Online/Virtual
X-ALT-DESC;FMTTYPE=text/html:Clackamas ESD - Online/Virtual     - Online/Virtual<br/><br/><span style="font-size:12pt"><span style="font-family:Calibri\,sans-serif"><span style="color:#000000">Description:&nbsp\;Part one of this two-part series introduces Oregon&rsquo\;s Spark\, state&rsquo\;s Quality Recognition and Improvement System (QRIS). Participants will learn about Spark&rsquo\;s goals\, benefits\, eligibility requirements\, and steps to participate. The goal of this training is to prepare providers to make an intentional decision about joining Spark and investing in their program&rsquo\;s quality growth. After this training\, interested providers will be able to sign up for Spark Overview Part 2.<br/>Set: 1<br/>CKC: PM<br/>ARC: No Age-Related Content</span></span></span><br/>&nbsp\;<br/><br/><br/><br/> For more information on this event\, go to https://pdnetworks.soesd.k12.or.us/public/events/view-event/15597/%2895329%29-Spark-Overview-Part-1-%28STATE%29
STATUS:CONFIRMED
END:VEVENT
END:VCALENDAR