BEGIN:VCALENDAR
VERSION:2.0
PRODID:-//hacksw/handcal//NONSGML v1.0//EN
METHOD:PUBLISH
BEGIN:VEVENT
UID:pdnetworks-15598@soesd.k12.or.us
SEQUENCE:3
DTSTAMP:20260423T081308
DTSTART:20260518T180000
DTEND:20260518T210000
SUMMARY:(95330) Serie de módulos del modelo pirámide para bebés y niños pequeños: Introducción y comprensión del desarrollo social y emocional (OECI Standardized)/ (SPA) Pyramid Model Infant-Toddler Module Series: Introduction & Understanding Social- (STATE) - PDNetworks Workshop
LOCATION:Clackamas ESD - Online/Virtual     - Online/Virtual
X-ALT-DESC;FMTTYPE=text/html:Clackamas ESD - Online/Virtual     - Online/Virtual<br/><br/><span style="font-size:12pt"><span style="font-family:Calibri\,sans-serif"><span style="color:#000000">Description:&nbsp\;</span></span></span><span style="color:#000000\; font-family:Calibri\,sans-serif\; font-size:12pt">El primer m&oacute\;dulo de la serie para beb&eacute\;s y ni&ntilde\;os peque&ntilde\;os familiarizar&aacute\; a los participantes con el Modelo Pir&aacute\;mide\, introducir&aacute\; t&eacute\;rminos importantes que se utilizar&aacute\;n a lo largo de los m&oacute\;dulos de formaci&oacute\;n del Modelo Pir&aacute\;mide y sentar&aacute\; las bases para comprender mejor el papel que desempe&ntilde\;an los cuidadores en el desarrollo socioemocional de los ni&ntilde\;os peque&ntilde\;os.&nbsp\;</span><br/><br/><hr /><br/><br/><p style="margin-right:32px"><span style="font-size:12pt"><span style="font-family:Calibri\,sans-serif"><span style="color:#000000">As the first training module in the Pyramid Model Infant-Toddler Module Series\,Understanding Social-Emotional Development will acquaint participants with the Pyramid Model\, introduce important terms that will be used throughout the Pyramid Model training modules\, and lay a foundation to better understand the role caregivers play in young children&rsquo\;s social-emotional development.</span></span></span></p><br/><br/><span style="font-size:12pt"><span style="font-family:Calibri\,sans-serif"><span style="color:#000000">Set: 2<br/>CKC: HGD<br/>ARC: Infant / Toddlers</span></span></span><br/>&nbsp\;<br/><br/><br/><br/> For more information on this event\, go to https://pdnetworks.soesd.k12.or.us/public/events/view-event/15598/%2895330%29-Serie-de-m%C3%B3dulos-del-modelo-pir%C3%A1mide-para-beb%C3%A9s-y-ni%C3%B1os-peque%C3%B1os%3A-Introducci%C3%B3n-y-comprensi%C3%B3n-del-desarrollo-social-y-emocional-%28OECI-Standardized%29--%28SPA%29-Pyramid-Model-Infant-Toddler-Module-Series%3A-Introduction-%26-Understanding-Social--%28STATE%29
STATUS:CONFIRMED
END:VEVENT
END:VCALENDAR