BEGIN:VCALENDAR
VERSION:2.0
PRODID:-//hacksw/handcal//NONSGML v1.0//EN
METHOD:PUBLISH
BEGIN:VEVENT
UID:pdnetworks-15603@soesd.k12.or.us
SEQUENCE:13
DTSTAMP:20260423T082534
DTSTART:20260506T180000
DTEND:20260527T210000
SUMMARY:(95747)  Designing Learning Spaces! Exploring Components of High Quality Early Childhood Classrooms (CCR&R) - PDNetworks Workshop
LOCATION:Clackamas ESD - Online/Virtual     - Online/Virtual
X-ALT-DESC;FMTTYPE=text/html:Clackamas ESD - Online/Virtual     - Online/Virtual<br/><br/><span style="font-size:12pt"><span style="font-family:Calibri\,sans-serif"><span style="color:#000000">Description:&nbsp\;</span></span></span>Are you in need of LEC Set 2 hours and want to look in depth at your classroom environment?&nbsp\; Kelley&#39\;s series &quot\;Designing Learning Spaces&quot\; might be just what you&nbsp\;are looking for.&nbsp\; This 4 part series will explore components of a high quality learning environment\, explore teacher&#39\;s role in it\, look in depth at classroom aesthetics and investigate how to make our spaces feel family centered.&nbsp\; Each class stands alone for 3 hours ORO credit and you must register for all 4 to attend.&nbsp\; Sign up today!<br/><span style="font-size:12pt"><span style="font-family:Calibri\,sans-serif"><span style="color:#000000">Set: 2<br/>CKC:&nbsp\;</span></span></span>1.5 FCS\, 9 LEC &amp\; 1.5 PPLD<br/><span style="font-size:12pt"><span style="font-family:Calibri\,sans-serif"><span style="color:#000000">ARC: Infant / Toddler</span></span></span><br/><br/>5/6/2026 -&nbsp\; 6:00PM-9:00PM - Designing Learning Spaces! Exploring Components of High Quality Early Childhood Classrooms<br/>5/14/2026 - 6:00-9:00PM - Designing Learning Spaces! Exploring Teacher Roles in High Quality Early Childhood Learning Environments<br/>5/20/2026 - 6:00-9:00PM - Designing Learning Spaces! Is Less More? Examining Aesthetics &amp\; Characteristics to Bring Your Classroom to Life&nbsp\;<br/>5/27/2026 - 6:00-9:00PM - Designing Learning Spaces! Shifting our Operations Focus From Child to Child and Family<br/>&nbsp\;<br/><br/><br/><br/> For more information on this event\, go to https://pdnetworks.soesd.k12.or.us/public/events/view-event/15603/%2895747%29--Designing-Learning-Spaces%21-Exploring-Components-of-High-Quality-Early-Childhood-Classrooms-%28CCR%26R%29
STATUS:CONFIRMED
END:VEVENT
END:VCALENDAR