BEGIN:VCALENDAR
VERSION:2.0
PRODID:-//hacksw/handcal//NONSGML v1.0//EN
METHOD:PUBLISH
BEGIN:VEVENT
UID:pdnetworks-5065@soesd.k12.or.us
SEQUENCE:0
DTSTAMP:20260419T112131
DTSTART:20160921T083000
DTEND:20160921T153000
SUMMARY:OrPATS - Preschool Parent Training Workshop - PDNetworks Workshop
LOCATION:SOESD Medford 101 N. Grape St. Medford OR 97501 - Upstairs Conference Room
X-ALT-DESC;FMTTYPE=text/html:SOESD Medford 101 N. Grape St. Medford OR 97501 - Upstairs Conference Room<br/><br/>***Please note*** A construction project is underway across the street from Southern Oregon ESD&rsquo\;s Medford Office.&nbsp\; There is no parking in front of SOESD&rsquo\;s main entrance on North Grape Street.&nbsp\; Please allow additional time to find parking and have adequate walk time to get to your meeting.<br/><br/><br/><strong><u>Who:</u></strong><br/>This workshop is designed for EI/ECSE staff planning to implement training with families.&nbsp\; Workshop will cover a general overview of the evidence-based strategies taught within the parent training curriculum &ldquo\;Teaching Social Communication to Children with Autism&rdquo\; by Brooke Ingersoll and Anna Dvortcsak. The training will also focus on specific strategies and techniques for providing one to one coaching to families.<br/>&nbsp\;<br/><strong><u>What:</u></strong><br/>Class will cover direct and indirect strategies to enhance communication and social interactions\, with a focus in the afternoon on strategies for coaching families. &nbsp\;Strategies covered will be techniques to improve social engagement\, language\, social imitation\, and play skills\, incorporated within daily routines. &nbsp\;Strategies will apply to children with autism\, as well as children with communication or social interaction delays.<br/>&nbsp\;<br/><strong><u>Where:</u></strong><br/>Southern Oregon ESD - Upstairs Conference Room<br/>101 N. Grape Street<br/>Medford\, OR 97501<br/><br/><strong><u>When:</u></strong><br/>September 21\, 2016 (8:30am - 3:30pm) Lunch Provided<br/><br/><strong><u>Register by:</u></strong><br/>Going to the Southern Oregon ESD Website at: <a href="http://www.soesd.k12.or.us/" target="_blank">http://www.soesd.k12.or.us/</a>\, then go to Workshops and Professional Development.&nbsp\; If you have questions or need assistance please contact Dawn Stephens at Dawn_Stephens@soesd.k12.or.us or 541-776-8554.<br/><br/><br/>The Oregon Department of Education has made a small amount of funds available to reimburse participating agencies for staff substitute pay. These funds are to provide release time to staff to be involved in ORPATS training (Workshops and/or visits to ORPATS Training Sites). This funding must be approved ahead of time and is on a first come first served basis. Please visit our website to download forms and instructions for submitting.&nbsp\; <a href="http://www.orpats.org">www.orpats.org</a><br/><br/>This workshop is a collaboration between OrPATS &amp\; SOESD Southern Oregon Regional Program<br/><br/><br/><br/> For more information on this event\, go to https://pdnetworks.soesd.k12.or.us/public/events/view-event/5065/OrPATS---Preschool-Parent-Training-Workshop
STATUS:CONFIRMED
END:VEVENT
END:VCALENDAR