BEGIN:VCALENDAR
VERSION:2.0
PRODID:-//hacksw/handcal//NONSGML v1.0//EN
METHOD:PUBLISH
BEGIN:VEVENT
UID:pdnetworks-6778@soesd.k12.or.us
SEQUENCE:0
DTSTAMP:20260419T061309
DTSTART:20190205T161500
DTEND:20190205T181500
SUMMARY:Phonemic Awareness - PDNetworks Workshop
LOCATION:Evergreen Elementary School 520 W. River Street Cave Junction OR 97523 - 
X-ALT-DESC;FMTTYPE=text/html:Evergreen Elementary School 520 W. River Street Cave Junction OR 97523 - <br/><br/><ul><br/><br/>	<li><br/><br/>	<p>What is phonological awareness and why is is so important for reading success?</p><br/><br/>	</li><br/><br/>	<li><br/><br/>	<p>What is the difference between phonological awareness and phonics?</p><br/><br/>	</li><br/><br/>	<li><br/><br/>	<p>Learn simple\, multi-sensory strategies that will engage students and improve phonological awareness skills for whole group and small group instruction.</p><br/><br/>	</li><br/><br/>	<li><br/><br/>	<p>These skills are essential for students of elementary age\, however\, may still need to be taught during intervention instruction for struggling readers of any age.</p><br/><br/>	</li><br/><br/></ul><br/><br/><br/><br/><p><a href="https://www.youtube.com/watch?v=iIoZoh7EpGo">https://www.youtube.com/watch?v=iIoZoh7EpGo</a></p><br/><br/><br/><br/><p><a href="https://www.youtube.com/watch?v=M_vLX8mxO4I">https://www.youtube.com/watch?v=M_vLX8mxO4I</a></p><br/><br/><br/><br/><p><a href="http://dyslexiahelp.umich.edu/professionals/dyslexia-school/phonological-awareness">http://dyslexiahelp.umich.edu/professionals/dyslexia-school/phonological-awareness</a></p><br/><br/><br/><br/><p><a href="http://www.readingrockets.org/helping/target/phonologicalphonemic">http://www.readingrockets.org/helping/target/phonologicalphonemic</a></p><br/><br/><br/><strong>Brought to you by:&nbsp\;Aimee Kiel and Cynthia Gutierrez-Olson\, Evergreen Elementary RM 102 (Eagle Wing)</strong><br/><br/><br/><br/> For more information on this event\, go to https://pdnetworks.soesd.k12.or.us/public/events/view-event/6778/Phonemic-Awareness
STATUS:CONFIRMED
END:VEVENT
END:VCALENDAR