BEGIN:VCALENDAR
VERSION:2.0
PRODID:-//hacksw/handcal//NONSGML v1.0//EN
METHOD:PUBLISH
BEGIN:VEVENT
UID:pdnetworks-7660@soesd.k12.or.us
SEQUENCE:1
DTSTAMP:20260421T093232
DTSTART:20200916T090000
DTEND:20200917T120000
SUMMARY:OrPATS - Implementing Evidence Based Practices in Remote Learning Environments Workshop  (SECONDARY) - PDNetworks Workshop
LOCATION:ZOOM     - 
X-ALT-DESC;FMTTYPE=text/html:ZOOM     - <br/><br/><strong><span style="font-size:16px">OrPATS - Oregon Program Autism Taining Sites and Support<br/>Two-Day Virtual Workshop</span><br/><br/><span style="font-size:14px">September 16\, 2020: 9:00am - 3:00pm (hour for lunch break)<br/>September 17\, 2020: 9:00am - 12:00pm (Supervised Practice 1:00pm - 3:00pm)<br/><a href="https://starautismsupport.zoom.us/meeting/register/tJcsdeuprjgoE9H8ca0Qc4_KcxsQWY3jYAJQ?_x_zm_rtaid=5oze5JN7ThCYloRZ6Jsk6Q.1598294131009.fc82fb08907c57a02651167208e19708&amp\;_x_zm_rhtaid=511"><span style="color:#FF0000">Click here to register!</span></a></span><br/><br/>Presented by Oregon Program Autism Training Sites &amp\; Support Staff &amp\; Oregon Redional Programs<br/><br/>The STAR Online Learning System (SOLS) for primary and/or secondary students and the STAR Media Center will be used to demonstrate the remote learning methods.&nbsp\;</strong><br/><br/>Participants will receive virtual training on how to implement asynchronous and synchronous (instructor led) remote learning practices for students with autism and other developmental disabilities. The following evidence-based instructional strategies: teaching functional routines\, task analysis\, discrete trial training\, pivotal response training (primary only) and positive behavior intervention and supports as used in the STAR Online Learning System (SOLS-s). This workshop is appropriate for teachers\, assistants\, related service providers\, specialists and administrators working with either primary (PreK\, Elementary) or secondary (Upper Elementary/Middle/High School &amp\; Post-Secondary) level students with ASD and other related developmental disabilities.<br/><br/>The Oregon Department of Education has made a small amount of funds available to reimburse participating agencies for staff substitute pay or to pay a stipend to staff who are not yet under contract at the time of the workshop. These funds are to provide release time to staff to be involved in ORPATS training (Workshops and/or visits to ORPATS Training Sites). This funding must be approved ahead of time and is on a first come first served basis. Please <a href="http://www.orpats.org/wp-content/uploads/2015/09/ORPATS-Release-Time-Reimbursement-Form_06.18.15_FILLABLE.pdf">click here</a> to download forms and instructions for submitting or visit the orpats.org website. <em>Persons with disabilities or who are in need of additional accommodations or a language interpreter in order to attend should contact Kathi Dehm\, 503-297-2864.</em><br/>&nbsp\;<br/>Please note: Attendees will get access to the STAR Media Center when attending this workshop. Access to SOLS will require a separate fee. However\, participants can use the remote learning techniques described at the workshop without purchasing SOLS. &nbsp\;<br/>&nbsp\;<br/><br/><br/><br/> For more information on this event\, go to https://pdnetworks.soesd.k12.or.us/public/events/view-event/7660/OrPATS---Implementing-Evidence-Based-Practices-in-Remote-Learning-Environments-Workshop--%28SECONDARY%29
STATUS:CONFIRMED
END:VEVENT
END:VCALENDAR