BEGIN:VCALENDAR
VERSION:2.0
PRODID:-//hacksw/handcal//NONSGML v1.0//EN
METHOD:PUBLISH
BEGIN:VEVENT
UID:pdnetworks-8981@soesd.k12.or.us
SEQUENCE:0
DTSTAMP:20260421T110200
DTSTART:20230424T083000
DTEND:20230424T153000
SUMMARY:Initial Clackamas Regional Flight Team (RFT) Training - PDNetworks Workshop
LOCATION:Clackamas ESD - Sunnybrook 13455 SE 97th Ave Clackamas OR 97015 - New Era/Springwater (Combined) Conference Room
X-ALT-DESC;FMTTYPE=text/html:Clackamas ESD - Sunnybrook 13455 SE 97th Ave Clackamas OR 97015 - New Era/Springwater (Combined) Conference Room<br/><br/><u><strong>Initial Clackamas Regional Flight Team (CRFT) Training</strong></u><br/><br/>This one day school-crisis response workshop is for school personnel who wish to be part of the Clackamas Regional Flight Team. Using the recently developed Regional Flight Team Manual ( designed with input from Clackamas County School Districts and community partners)\, this workshop will cover the basics and nitty gritty of what Regional Flight Team Members need to know to be prepared for a school crisis response. In addition to basics\, this training will include developmental information on how children respond to trauma\, how to work with Regional Flight Team members from other districts\, and a review of Support Room logistics. At the conclusion of the training\, members will receive support room backpacks\, filled with supplies (one per building) and a Clackamas Regional Flight Team (CRFT) badge.<br/><br/><strong>Please arrive several minutes before 8:30AM to sign in and have your badge photo taken.</strong><br/><br/><br/><strong><u>Lunch will be provided.<br/><br/>Event is hosted at CESD&#39\;s Sunnybrook Building: 13455 SE 97th Ave\, Clackamas OR 97015</u></strong><br/><br/><br/><br/> For more information on this event\, go to https://pdnetworks.soesd.k12.or.us/public/events/view-event/8981/Initial-Clackamas-Regional-Flight-Team-%28RFT%29-Training
STATUS:CONFIRMED
END:VEVENT
END:VCALENDAR