BEGIN:VCALENDAR
VERSION:2.0
PRODID:-//hacksw/handcal//NONSGML v1.0//EN
METHOD:PUBLISH
BEGIN:VEVENT
UID:pdnetworks-8982@soesd.k12.or.us
SEQUENCE:0
DTSTAMP:20260421T110518
DTSTART:20230427T090000
DTEND:20230427T113000
SUMMARY:Experienced Regional Flight Team Training- Clackamas ESD - PDNetworks Workshop
LOCATION:Clackamas ESD - Sunnybrook 13455 SE 97th Ave Clackamas OR 97015 - Brightwood Conference Room
X-ALT-DESC;FMTTYPE=text/html:Clackamas ESD - Sunnybrook 13455 SE 97th Ave Clackamas OR 97015 - Brightwood Conference Room<br/><br/><p><u><strong>Experienced Regional Flight Team Training</strong></u></p><br/><br/><br/><br/><ul><br/><br/>	<li>A two and half hour training for already experienced flight team members intended to provide an overview and training on the Clackamas Regional Flight Team Model.This training is intended for those individuals with a high level of flight team knowledge and experience. The training will focus on providing participants with resources and information to use in order to provide consistent support across all school districts in Clackamas County. It will provide participants information on a shared vocabulary &amp\; common framework to follow when stepping into another district to provide crisis response.</li><br/><br/>	<li><br/><br/>	<p>At the end of this training&nbsp\;participants will receive a &ldquo\;Grab and Go&rdquo\; Support Room backpack filled with supplies (one per building).&nbsp\;&nbsp\;</p><br/><br/>	</li><br/><br/>	<li><br/><br/>	<p>Participants will be given a Clackamas Regional Flight Team badge to wear when providing crisis response for another district.</p><br/><br/>	</li><br/><br/>	<li><br/><br/>	<p>Participants will be added to the Regional Flight Team contact list that will be utilized by CESD when a district requests support from the regional team.&nbsp\;<br/>	<br/>	<strong><u>Coffee and Snacks will be provided.<br/>	<br/>	Event is hosted at CESD&#39\;s Sunnybrook Building: 13455 SE 97th Ave\, Clackamas OR 97015</u></strong></p><br/><br/>	</li><br/><br/></ul><br/><br/><br/><br/><br/><br/> For more information on this event\, go to https://pdnetworks.soesd.k12.or.us/public/events/view-event/8982/Experienced-Regional-Flight-Team-Training--Clackamas-ESD
STATUS:CONFIRMED
END:VEVENT
END:VCALENDAR