BEGIN:VCALENDAR
VERSION:2.0
PRODID:-//hacksw/handcal//NONSGML v1.0//EN
METHOD:CANCEL
BEGIN:VEVENT
UID:pdnetworks-8983@soesd.k12.or.us
SEQUENCE:1
DTSTAMP:20260421T110930
DTSTART:20230427T123000
DTEND:20230427T153000
SUMMARY:Regional Flight Team Training -LEADS- Clackamas ESD - PDNetworks Workshop
LOCATION:Clackamas ESD - Sunnybrook 13455 SE 97th Ave Clackamas OR 97015 - New Era/Springwater (Combined) Conference Room
X-ALT-DESC;FMTTYPE=text/html:Clackamas ESD - Sunnybrook 13455 SE 97th Ave Clackamas OR 97015 - New Era/Springwater (Combined) Conference Room<br/><br/>Clackamas Regional Flight Team &quot\;Leads&quot\; Training is designed to support Regional Flight Team member&#39\;s who want to be able to step up into a leadership role during a school crisis response. The class covers the responsibilities of Regional Flight Team members in a &quot\;lead&quot\; role\, provides tools for working a response\, offers a tabletop exercise to practice and resources for participants.<br/><br/><br/><strong>Please arrive several minutes early to have your temperature taken as a Covid-19 precaution.</strong><br/><br/><strong><u>Snacks and beverages will be provided.<br/><br/>Event is hosted at CESD&#39\;s Sunnybrook Building: 13455 SE 97th Ave\, Clackamas OR 97015</u></strong><br/><br/><br/><br/> For more information on this event\, go to https://pdnetworks.soesd.k12.or.us/public/events/view-event/8983/Regional-Flight-Team-Training--LEADS--Clackamas-ESD
STATUS:CANCELLED
END:VEVENT
END:VCALENDAR