BEGIN:VCALENDAR
VERSION:2.0
PRODID:-//hacksw/handcal//NONSGML v1.0//EN
METHOD:PUBLISH
BEGIN:VEVENT
UID:pdnetworks-951015038@soesd.k12.or.us
SEQUENCE:5
DTSTAMP:20260425T153114
DTSTART:20230815T083000
DTEND:20230815T160000
SUMMARY:Equity Summit 2023 - SMBH - Equity Summit 2023 Day 1 - PDNetworks Class
LOCATION:Ashland Hills Hotel & Suites 2525 Ashland St Ashland OR 97520
X-ALT-DESC;FMTTYPE=text/html:Ashland Hills Hotel & Suites 2525 Ashland St Ashland OR 97520<br/><br/>The Southern Oregon Equity Summit 2023 includes high-profile speakers and breakout sessions that provide strategies for understanding equity through a trauma-informed practices approach. We are please to bring a slate of wonderful speakers from our area and around the country.<br/><br/><ul><br/><br/>	<li>Joshua Crocker Native Wellness Institute</li><br/><br/>	<li>John Krownapple Dignity Consulting</li><br/><br/>	<li>Ricky Robertson</li><br/><br/>	<li>Amanda Coven Oregon Jewish Museum and Center for Holocaust Education</li><br/><br/></ul><br/><br/>We’ll be holding this year’s Summit at the Ashland Hills Hotel & Suites and working with multiple partners to offer access to sites across Oregon. These sites will provide virtual access to speakers and enable participants to attend as a group to increase engage in interactive discussions and exercises the presenters put forth.<br/><br/>Registration now open! The event is Free for educators from SOESD and our component districts.<br/>Summit Fees:<br/><br/><table border="1" cellpadding="1" cellspacing="1"><br/><br/>	<tbody><br/><br/>		<tr><br/><br/>			<td>SOESD Region Educators </td><br/><br/>			<td>FREE </td><br/><br/>		</tr><br/><br/>		<tr><br/><br/>			<td>Southern Oregon Community Partner</td><br/><br/>			<td>$99 </td><br/><br/>		</tr><br/><br/>		<tr><br/><br/>			<td>Out of Region</td><br/><br/>			<td>$199 </td><br/><br/>		</tr><br/><br/>	</tbody><br/><br/></table><br/><br/><br/><br/>For more information on (or to unsubscribe from) this event\, please go to https://pdnetworks.soesd.k12.or.us/public/events/view-event/9510/Equity-Summit-2023---SMBH
STATUS:CONFIRMED
END:VEVENT
END:VCALENDAR